BEGIN:VCALENDAR
VERSION:2.0
PRODID:-//Mehr als Märchen - ECPv4.9.11//NONSGML v1.0//EN
CALSCALE:GREGORIAN
METHOD:PUBLISH
X-WR-CALNAME:Mehr als Märchen
X-ORIGINAL-URL:https://mehr-als-maerchen.de
X-WR-CALDESC:Veranstaltungen im Mehr als Märchen
BEGIN:VTIMEZONE
TZID:Europe/Berlin
BEGIN:DAYLIGHT
TZOFFSETFROM:+0100
TZOFFSETTO:+0200
TZNAME:CEST
DTSTART:20220327T010000
END:DAYLIGHT
BEGIN:STANDARD
TZOFFSETFROM:+0200
TZOFFSETTO:+0100
TZNAME:CET
DTSTART:20221030T010000
END:STANDARD
END:VTIMEZONE
BEGIN:VEVENT
DTSTART;TZID=Europe/Berlin:20220414T143000
DTEND;TZID=Europe/Berlin:20220414T170000
DTSTAMP:20260420T083334
CREATED:20220625T094554Z
LAST-MODIFIED:20220625T095600Z
UID:524-1649946600-1649955600@mehr-als-maerchen.de
SUMMARY:Familienangebot: Österliche Geschichten mit anschließendem Bastelangebot
DESCRIPTION:Große und kleine Museumsbesucher*innen ab 4 Jahren können der Märchenerzählerin Anne Grammes bei ihren osterzeitlichen Geschichten lauschen. Nach der Reise in die Welt der Erzählungen gibt es ein kleines Bastelangebot\, passend zur Osterzeit. \nDie Teilnahme beträgt 3 Euro pro Kind in Begleitung eines Erwachsenen\, zzgl. zum Museumseintritt (Kinder bis zum 18. Geburtstag zahlen keinen Eintritt). \n-nur mit Anmeldung- \n-begrenzte Teilnehmerzahl- \n06751-855880\, info@freilichtmuseum-rlp.de \n
URL:https://mehr-als-maerchen.de/event/familienangebot-oesterliche-geschichten-mit-anschliessendem-bastelangebot
LOCATION:Freilichtmuseum Bad Sobernheim
CATEGORIES:Märchen
ATTACH;FMTTYPE=image/jpeg:https://mehr-als-maerchen.de/wp-content/uploads/2022/06/FLM-Ostern-2022-e1656150903175.jpg
END:VEVENT
END:VCALENDAR