BEGIN:VCALENDAR
VERSION:2.0
PRODID:-//Mehr als Märchen - ECPv4.9.11//NONSGML v1.0//EN
CALSCALE:GREGORIAN
METHOD:PUBLISH
X-WR-CALNAME:Mehr als Märchen
X-ORIGINAL-URL:https://mehr-als-maerchen.de
X-WR-CALDESC:Veranstaltungen im Mehr als Märchen
BEGIN:VTIMEZONE
TZID:Europe/Berlin
BEGIN:DAYLIGHT
TZOFFSETFROM:+0100
TZOFFSETTO:+0200
TZNAME:CEST
DTSTART:20210328T010000
END:DAYLIGHT
BEGIN:STANDARD
TZOFFSETFROM:+0200
TZOFFSETTO:+0100
TZNAME:CET
DTSTART:20211031T010000
END:STANDARD
END:VTIMEZONE
BEGIN:VEVENT
DTSTART;TZID=Europe/Berlin:20211107T130000
DTEND;TZID=Europe/Berlin:20211107T190000
DTSTAMP:20260419T130842
CREATED:20211012T174813Z
LAST-MODIFIED:20211012T174813Z
UID:510-1636290000-1636311600@mehr-als-maerchen.de
SUMMARY:Historischer Jahresabschluss im Freilichtmuseum
DESCRIPTION:Das Freilichtmuseum verabschiedet die diesjährige Saison mit einem gemütlichen Ausklang. \nZum Historischen Jahresabschluss am Sonntag\, 07.11.2021 bringt das Freilichtmuseum noch einmal Licht in die Dunkelheit des Novembers. Ob Scheunenkino\, Märchenerzählungen (mit Anne Grammes) oder Windlichter basteln\, Programme und Vorführungen rund um die spätherbstliche Jahreszeit beleben das Gelände in stimmungsvoller Atmosphäre. Ein gemütlicher historischer Martinimarkt in der Baugruppe Mittelrhein-Westerwald lädt zum Einkaufen „letzter Vorräte“ für den Winter ein. \nDie “Nachtwächterführungen” mit Arnold Kommer finden am Jahresabschluss um 18.00 Uhr und um 20.00 Uhr statt. Eine Anmeldung ist erforderlich. \nDie Letzten machen das Licht aus! – Das “Museumsleuchten” endet mit dem Jahresabschluss und das Freilichtmuseum verabschiedet sich mit diesem Sonntag in die Winterpause. \n
URL:https://mehr-als-maerchen.de/event/historischer-jahresabschluss-im-freilichtmuseum
LOCATION:Freilichtmuseum Bad Sobernheim
END:VEVENT
END:VCALENDAR