BEGIN:VCALENDAR
VERSION:2.0
PRODID:-//Mehr als Märchen - ECPv4.9.11//NONSGML v1.0//EN
CALSCALE:GREGORIAN
METHOD:PUBLISH
X-WR-CALNAME:Mehr als Märchen
X-ORIGINAL-URL:https://mehr-als-maerchen.de
X-WR-CALDESC:Veranstaltungen im Mehr als Märchen
BEGIN:VTIMEZONE
TZID:Europe/Berlin
BEGIN:DAYLIGHT
TZOFFSETFROM:+0100
TZOFFSETTO:+0200
TZNAME:CEST
DTSTART:20250330T010000
END:DAYLIGHT
BEGIN:STANDARD
TZOFFSETFROM:+0200
TZOFFSETTO:+0100
TZNAME:CET
DTSTART:20251026T010000
END:STANDARD
END:VTIMEZONE
BEGIN:VEVENT
DTSTART;TZID=Europe/Berlin:20250504T150000
DTEND;TZID=Europe/Berlin:20250504T170000
DTSTAMP:20260419T185939
CREATED:20251019T105303Z
LAST-MODIFIED:20251019T105711Z
UID:631-1746370800-1746378000@mehr-als-maerchen.de
SUMMARY:Furien
DESCRIPTION: \n\n\nTranslator\n\n\n\n\n\n\n\n\n  \n \n\n\nTranslator\n\n\n\n\n\n\n\n\n  \n \n\n\nTranslator\n\n\n\n\n\n\n\n\n  \n \n\n\nTranslator\n\n\n\n\n\n\n\n\n \n\n\nTranslator\n\n\n\n\n\n\n\n\n  \n  \n\n\nTranslator\n\n\n\n\n\n\n\n\n  \n  \n\n\nTranslator\n\n\n\n\n\n\n\n\n  \n  \n\n\nTranslator\n\n\n\n\n\n\n\n\n\n\nTranslator\n\n\n\n\n\n\n\n\n\n\nTranslator\n\n\n\n\n\n\n\n\n\n\nTranslator\n\n\n\n\n\n\n\n\n\n\nTranslator\n\n\n\n\n\nTranslator\n\n\n\n\n\n\n\n\nDie Furien:  \nwütend. weise\, wundervoll  \nZwei Schauspielerinnen und ein Sprechchor erforschen die weibliche Wut.  \nWilde Weiber spielen mit Erwartungen und durchbrechen mit Witz die Klischees der Erwartungen an die Weiblichkeit.  \nEine Abenteuerreise in eine neue Welt!  \nDie Furien hatten ihre eigenen Gesetze und verfolgten Mörder und Meineidige.  \nSie traten vor allem dann auf\, wenn das menschliche Recht und das Gesetz  \nirgendwo versagten. Dann jagten sie die Schuldigen von einem Ort zum anderen\,  \nohne sie atmen zu lassen. Nemesis war eine Göttin aus der griechischen Mythologie.  \nSie war die Tochter der Nacht (Nyx) und ihr Name bedeutete übersetzt soviel wie  \n„Zuteilung des Gebührenden“.  \nSo wurde Nemesis zur Göttin des Zorns und der gerechten Rache.  \nNemesis bestrafte vor allem Hochmut (Hybris) sowie Verstöße gegen die göttliche  \nOrdnung. Darüber hinaus wurde Nemesis als Rachegöttin von den drei Furien unterstützt. Alekto\, Megaira und Tisiphone sind Personifikationen des schlechten Gewissens und  \nverteidigen vor allem Mütter.  \n
URL:https://mehr-als-maerchen.de/event/furien-2
LOCATION:Birkenfeld\, Jahnplatz 2\, Birkenfeld\, 55765\, Deutschland
CATEGORIES:Schauspiel
ATTACH;FMTTYPE=image/jpeg:https://mehr-als-maerchen.de/wp-content/uploads/2025/04/FURIEN-Flyer-1-seitig.jpg
ORGANIZER;CN="Sommersaal":MAILTO:sommersaal@web.de
END:VEVENT
END:VCALENDAR